BEGIN:VCALENDAR
VERSION:2.0
PRODID:-//Plone.org//NONSGML plone.app.event//EN
X-WR-TIMEZONE:Australia/Sydney
BEGIN:VEVENT
SUMMARY:Creating Confident Committees
DTSTART;TZID=Australia/Sydney:20211012T130000
DTEND;TZID=Australia/Sydney:20211012T140000
DTSTAMP:20260420T180519Z
UID:c1cb771cd8164eb0a3032f1b86100c7c@127.0.0.1:91
RRULE:FREQ=WEEKLY;UNTIL=20211026T000000;BYDAY=TU
CONTACT:Deb Tkachenko\, dtkachenko@landcarensw.org.au\, http://www.stickyt
 ickets.com.au/aiv1t
CREATED:20210928T061123Z
DESCRIPTION:Lockdown Lunch Webinars - \n\nAn opportunity for developing Co
 mmittee skills.
LAST-MODIFIED:20210928T061702Z
LOCATION:online
URL:https://landcare.nsw.gov.au/events/creating-confident-committees
END:VEVENT
BEGIN:VTIMEZONE
TZID:Australia/Sydney
X-LIC-LOCATION:Australia/Sydney
BEGIN:DAYLIGHT
DTSTART:20211003T030000
TZNAME:AEDT
TZOFFSETFROM:+1000
TZOFFSETTO:+1100
END:DAYLIGHT
END:VTIMEZONE
END:VCALENDAR
