BEGIN:VCALENDAR
VERSION:2.0
PRODID:-//Plone.org//NONSGML plone.app.event//EN
X-WR-TIMEZONE:Australia/Sydney
BEGIN:VEVENT
SUMMARY:Native seed workshop
DTSTART;TZID=Australia/Sydney:20180925T090000
DTEND;TZID=Australia/Sydney:20180925T150000
DTSTAMP:20260420T122456Z
UID:6955b30af185427e9c16ec1b6d60ae20@127.0.0.1:91
CONTACT:Kathryn McGuirk\, kangiara@gmail.com
CREATED:20180829T234706Z
DESCRIPTION:YAN is hosting a workshop with Stephen Bruce from Greening Aus
 tralia to discuss native plant id techniques\, native seed collection\, cl
 eaning and storage techniques.
LAST-MODIFIED:20180829T235016Z
LOCATION:Bookham Memorial Hall and Bookham Cemetery
URL:https://landcare.nsw.gov.au/groups/bookham-landcare-group/native-seed-
 workshop
END:VEVENT
BEGIN:VTIMEZONE
TZID:Australia/Sydney
X-LIC-LOCATION:Australia/Sydney
BEGIN:STANDARD
DTSTART:20180401T020000
TZNAME:AEST
TZOFFSETFROM:+1100
TZOFFSETTO:+1000
END:STANDARD
END:VTIMEZONE
END:VCALENDAR
