BEGIN:VCALENDAR
VERSION:2.0
PRODID:-//Plone.org//NONSGML plone.app.event//EN
X-WR-TIMEZONE:Australia/Sydney
BEGIN:VEVENT
SUMMARY:Roadside Fruit Fly 
DTSTART;TZID=Australia/Sydney:20141104T110000
DTEND;TZID=Australia/Sydney:20141104T140000
DTSTAMP:20260424T004028Z
UID:bef3e911ab9d4bbc9e9a10decd8102b7@127.0.0.1:91
CREATED:20141011T024118Z
DESCRIPTION:A session\, to make baits and install them on the roadside fru
 it trees in Glen Davis\, meet at the Glen Davis Hotel from 11am after Pila
 tes (Pilates starts at 9.30am if you're interested in trying that!)
LAST-MODIFIED:20170807T110955Z
URL:https://landcare.nsw.gov.au/groups/capertee-valley-catchment-group/eve
 nts/roadside-fruit-fly
END:VEVENT
BEGIN:VTIMEZONE
TZID:Australia/Sydney
X-LIC-LOCATION:Australia/Sydney
BEGIN:DAYLIGHT
DTSTART:20141005T030000
TZNAME:AEDT
TZOFFSETFROM:+1000
TZOFFSETTO:+1100
END:DAYLIGHT
END:VTIMEZONE
END:VCALENDAR
