BEGIN:VCALENDAR
VERSION:2.0
PRODID:-//Plone.org//NONSGML plone.app.event//EN
X-WR-TIMEZONE:Australia/Sydney
BEGIN:VEVENT
SUMMARY:Fruit tree pruning workshop
DTSTART;TZID=Australia/Sydney:20180728T130000
DTEND;TZID=Australia/Sydney:20180728T150000
DTSTAMP:20260424T012405Z
UID:2aefc894005642768bf28cfd38fc56f7@127.0.0.1:91
ATTENDEE;CN="Anyone keen to learn how to prune their fruit trees";ROLE=REQ
 -PARTICIPANT:Anyone keen to learn how to prune their fruit trees
CATEGORIES:Workshops,Community
CONTACT:Marita Sydes\, 0429 979 780\, centraltablelandslandcare@gmail.com
CREATED:20180625T000902Z
DESCRIPTION:Following on from the success of the last fruit tree pruning w
 orkshop at the ELF garden last year - Central Tablelands Landcare and the 
 Orange ELF Community Garden are teaming up again to offer another hands-on
  workshop on pruning fruit trees.
LAST-MODIFIED:20180625T002138Z
LOCATION:ELF Community Garden\, Orange Showgrounds
URL:https://landcare.nsw.gov.au/groups/central-tablelands-landcare-managem
 ent-committee/fruit-tree-pruning-workshop
END:VEVENT
BEGIN:VTIMEZONE
TZID:Australia/Sydney
X-LIC-LOCATION:Australia/Sydney
BEGIN:STANDARD
DTSTART:20180401T020000
TZNAME:AEST
TZOFFSETFROM:+1100
TZOFFSETTO:+1000
END:STANDARD
END:VTIMEZONE
END:VCALENDAR
