BEGIN:VCALENDAR
VERSION:2.0
PRODID:-//Plone.org//NONSGML plone.app.event//EN
X-WR-TIMEZONE:Australia/Sydney
BEGIN:VEVENT
SUMMARY:Native Grass ID Workshop
DTSTART;TZID=Australia/Sydney:20240828T093000
DTEND;TZID=Australia/Sydney:20240828T123000
DTSTAMP:20260426T114740Z
UID:54d76709245b4c9e8829a68ddcf3d649@127.0.0.1:91
CATEGORIES:Private Land Conservation,Biodiversity,Native Vegetation
CONTACT:Geraldine Brown /  Phoebe Gulliver\, 0439 620 081 /  0401 376 209\
 , centraltablelandslandcare@gmail.com /  project.coordinator@littleriverla
 ndcare.com.au\, https://www.ctregionallandcare.org/central-tablelands-land
 care-events/native-grass-id-workshop
CREATED:20240613T040502Z
DESCRIPTION:Landcare NSW and the NSW Biodiversity Conservation Trust (BCT)
  are working with regional Landcare networks to raise awareness and suppor
 t private land conservation efforts across the state.
LAST-MODIFIED:20240709T044931Z
LOCATION:Garr Fire Shed Kidd Lane\, Garra\, NSW\, 2866
URL:https://landcare.nsw.gov.au/groups/central-tablelands-regional-landcar
 e-network/native-grass-id-workshop
END:VEVENT
BEGIN:VTIMEZONE
TZID:Australia/Sydney
X-LIC-LOCATION:Australia/Sydney
BEGIN:STANDARD
DTSTART:20240407T020000
TZNAME:AEST
TZOFFSETFROM:+1100
TZOFFSETTO:+1000
END:STANDARD
END:VTIMEZONE
END:VCALENDAR
