BEGIN:VCALENDAR
VERSION:2.0
PRODID:-//Plone.org//NONSGML plone.app.event//EN
X-WR-TIMEZONE:Australia/Sydney
BEGIN:VEVENT
SUMMARY:Community Connect - Media Messaging Workshop
DTSTART;TZID=Australia/Sydney:20181015T093000
DTEND;TZID=Australia/Sydney:20181015T143000
DTSTAMP:20260424T012405Z
UID:7f29d04faf744417b27edc91fb040b01@127.0.0.1:91
CATEGORIES:Soils,Community
CONTACT:Kylie Falconer\, +61267323443\, kylie@glenrac.org.au\, http://www.
 glenrac.org.au/events.php
CREATED:20180906T031655Z
DESCRIPTION:GLENRAC will host our 4th International Rural Women's Day even
 t with a workshop with Stephanie Dale of The Write Road. This workshop is 
 open to all women who live and work in the our rural community.
LAST-MODIFIED:20190318T223617Z
LOCATION:Glen Innes Saleyards Canteen\, 36 Lang St
URL:https://landcare.nsw.gov.au/groups/glenrac/community-connect-media-mes
 saging-workshop
END:VEVENT
BEGIN:VTIMEZONE
TZID:Australia/Sydney
X-LIC-LOCATION:Australia/Sydney
BEGIN:DAYLIGHT
DTSTART:20181007T030000
TZNAME:AEDT
TZOFFSETFROM:+1000
TZOFFSETTO:+1100
END:DAYLIGHT
END:VTIMEZONE
END:VCALENDAR
