BEGIN:VCALENDAR
VERSION:2.0
PRODID:-//Plone.org//NONSGML plone.app.event//EN
X-WR-TIMEZONE:Australia/Sydney
BEGIN:VEVENT
SUMMARY:Getting Your Group Right Workshop - Inverell
DTSTART;TZID=Australia/Sydney:20180524T180000
DTEND;TZID=Australia/Sydney:20180524T210000
DTSTAMP:20260424T170846Z
UID:b1b00cfb7ced4b2cb1485cd83557cfa4@127.0.0.1:91
CATEGORIES:Education,Resources
CONTACT:Kelly Walsh\, 0267323443\, office@glenrac.org.au\, http://www.glen
 rac.org.au/events.php
CREATED:20180508T232712Z
DESCRIPTION:3-hour governance training workshop in Inverell. Hosted by GLE
 NRAC & GWYMAC Landcare.
LAST-MODIFIED:20180508T233059Z
LOCATION:Inverell Club\, Corner Evan & Campbell St\, Inverell
URL:https://landcare.nsw.gov.au/groups/glenrac/getting-your-group-right-wo
 rkshop-inverell
END:VEVENT
BEGIN:VTIMEZONE
TZID:Australia/Sydney
X-LIC-LOCATION:Australia/Sydney
BEGIN:STANDARD
DTSTART:20180401T020000
TZNAME:AEST
TZOFFSETFROM:+1100
TZOFFSETTO:+1000
END:STANDARD
END:VTIMEZONE
END:VCALENDAR
