BEGIN:VCALENDAR
VERSION:2.0
PRODID:-//Plone.org//NONSGML plone.app.event//EN
X-WR-TIMEZONE:Australia/Sydney
BEGIN:VEVENT
SUMMARY:GLENRAC Focus - Get Connected
DTSTART;TZID=Australia/Sydney:20180315T190000
DTEND;TZID=Australia/Sydney:20180315T203000
DTSTAMP:20260421T042835Z
UID:09931faf85454fef8add54bbd8670fd3@127.0.0.1:91
CATEGORIES:Community
CONTACT:Kylie Falconer\, 0267323443\, kylie@glenrac.org.au\, http://www.gl
 enrac.org.au
CREATED:20180312T002911Z
DESCRIPTION:GLENRAC &  NSW Farmers\, Glen Innes branch will host an inform
 ation event.
LAST-MODIFIED:20180312T003905Z
LOCATION:Glen Innes & District Services Club\, Remembrance Room
URL:https://landcare.nsw.gov.au/groups/glenrac/glenrac-focus-get-connected
END:VEVENT
BEGIN:VTIMEZONE
TZID:Australia/Sydney
X-LIC-LOCATION:Australia/Sydney
BEGIN:DAYLIGHT
DTSTART:20171001T030000
TZNAME:AEDT
TZOFFSETFROM:+1000
TZOFFSETTO:+1100
END:DAYLIGHT
END:VTIMEZONE
END:VCALENDAR
