BEGIN:VCALENDAR
VERSION:2.0
PRODID:-//Plone.org//NONSGML plone.app.event//EN
X-WR-TIMEZONE:Australia/Sydney
BEGIN:VEVENT
SUMMARY:Rabbits Control Field Day
DTSTART;TZID=Australia/Sydney:20190903T093000
DTEND;TZID=Australia/Sydney:20190903T140000
DTSTAMP:20260423T063824Z
UID:ff593eb3708f4dd5a393fc7c3e46ead5@127.0.0.1:91
CATEGORIES:MEPAAW,Pest control
CONTACT:Eliza James\, 6732 3443\, eliza.james@glenrac.org.au\, http://www.
 glenrac.org.au/event-details.php?eid=676
CREATED:20190827T035508Z
DESCRIPTION:Fed up with damage caused by wild rabbits?
LAST-MODIFIED:20190827T035534Z
LOCATION:‘Naalong’ 52 Wilson Rd\, Glen Innes
URL:https://landcare.nsw.gov.au/groups/glenrac/rabbits-control-field-day
END:VEVENT
BEGIN:VTIMEZONE
TZID:Australia/Sydney
X-LIC-LOCATION:Australia/Sydney
BEGIN:STANDARD
DTSTART:20190407T020000
TZNAME:AEST
TZOFFSETFROM:+1100
TZOFFSETTO:+1000
END:STANDARD
END:VTIMEZONE
END:VCALENDAR
