BEGIN:VCALENDAR
VERSION:2.0
PRODID:-//Plone.org//NONSGML plone.app.event//EN
X-WR-TIMEZONE:Australia/Sydney
BEGIN:VEVENT
SUMMARY:Waste2Art Workshop
DTSTART;TZID=Australia/Sydney:20250710T100000
DTEND;TZID=Australia/Sydney:20250712T150000
DTSTAMP:20260423T014159Z
UID:2db79772fbb441b39e33891de7667c23@127.0.0.1:91
ATTENDEE;CN="13-18 yrs";ROLE=REQ-PARTICIPANT:13-18 yrs
CONTACT:Danielle Littlewood\, 0457 115 525\, info@mml.org.au\, https://www
 .facebook.com/share/1EeFmqVYxK/
CREATED:20250604T034337Z
DESCRIPTION:This FREE school holiday workshop is open to 13-18 year olds.
LAST-MODIFIED:20250612T045041Z
LOCATION:Wellington\, NSW
URL:https://landcare.nsw.gov.au/groups/mid-macquarie-landcare/test-event
END:VEVENT
BEGIN:VTIMEZONE
TZID:Australia/Sydney
X-LIC-LOCATION:Australia/Sydney
BEGIN:STANDARD
DTSTART:20250406T020000
TZNAME:AEST
TZOFFSETFROM:+1100
TZOFFSETTO:+1000
END:STANDARD
END:VTIMEZONE
END:VCALENDAR
