BEGIN:VCALENDAR
VERSION:2.0
PRODID:-//Plone.org//NONSGML plone.app.event//EN
X-WR-TIMEZONE:Australia/Sydney
BEGIN:VEVENT
SUMMARY:Native Bee Course - Orange 
DTSTART;TZID=Australia/Sydney:20160127T000000
DTEND;TZID=Australia/Sydney:20160127T235959
DTSTAMP:20260420T131140Z
UID:f70664d5227a4aabbcf8f7fbd8cbac3f@127.0.0.1:91
CREATED:20151216T000254Z
DESCRIPTION:Australian Native Bees in our Landscape
LAST-MODIFIED:20170807T085437Z
URL:https://landcare.nsw.gov.au/groups/rlf-central-tablelands/events/nativ
 e-bee-course-orange
END:VEVENT
BEGIN:VTIMEZONE
TZID:Australia/Sydney
X-LIC-LOCATION:Australia/Sydney
BEGIN:DAYLIGHT
DTSTART:20151004T030000
TZNAME:AEDT
TZOFFSETFROM:+1000
TZOFFSETTO:+1100
END:DAYLIGHT
END:VTIMEZONE
END:VCALENDAR
