BEGIN:VCALENDAR
VERSION:2.0
PRODID:-//Plone.org//NONSGML plone.app.event//EN
X-WR-TIMEZONE:Australia/Sydney
BEGIN:VEVENT
SUMMARY:Erosion Control Workshop November 2021
DTSTART;TZID=Australia/Sydney:20211120T093000
DTEND;TZID=Australia/Sydney:20211120T123000
DTSTAMP:20260426T114744Z
UID:730505f542434a48a40b3269ed1cb2d7@127.0.0.1:91
CREATED:20230902T012205Z
LAST-MODIFIED:20230902T012624Z
LOCATION:Araluen\, NSW
URL:https://landcare.nsw.gov.au/groups/upper-deua-catchment-landcare-group
 /erosion-control-workshop
END:VEVENT
BEGIN:VTIMEZONE
TZID:Australia/Sydney
X-LIC-LOCATION:Australia/Sydney
BEGIN:DAYLIGHT
DTSTART:20211003T030000
TZNAME:AEDT
TZOFFSETFROM:+1000
TZOFFSETTO:+1100
END:DAYLIGHT
END:VTIMEZONE
END:VCALENDAR
