BEGIN:VCALENDAR
VERSION:2.0
PRODID:-//Plone.org//NONSGML plone.app.event//EN
X-WR-TIMEZONE:Australia/Sydney
BEGIN:VEVENT
SUMMARY:Adaptive Review
DTSTART;VALUE=DATE:20250304
DTEND;VALUE=DATE:20250305
DTSTAMP:20260424T004741Z
UID:c6700e03142a430db3f658ccd6a641f9@127.0.0.1:91
CONTACT:https://landcare.nsw.gov.au/toolbox/program-communications/adaptiv
 e-review-feb-mar-2025-landcare-enabling-program/
CREATED:20250207T020658Z
DESCRIPTION:This meeting will be for a limited number of participants (to 
 be advised)
LAST-MODIFIED:20250213T033121Z
URL:https://landcare.nsw.gov.au/toolbox/lep-calendar/adaptive-review
END:VEVENT
END:VCALENDAR
