BEGIN:VCALENDAR
VERSION:2.0
PRODID:-//Plone.org//NONSGML plone.app.event//EN
X-WR-TIMEZONE:Australia/Sydney
BEGIN:VEVENT
SUMMARY:Communications
DTSTART;VALUE=DATE:20250602
DTEND;VALUE=DATE:20250603
DTSTAMP:20260424T063240Z
UID:79089dd3ab764c6db33ed827779bf5cc@127.0.0.1:91
CREATED:20250321T003645Z
LAST-MODIFIED:20250321T003655Z
URL:https://landcare.nsw.gov.au/toolbox/lep-calendar/communications-2
END:VEVENT
END:VCALENDAR
