BEGIN:VCALENDAR
VERSION:2.0
PRODID:-//Plone.org//NONSGML plone.app.event//EN
X-WR-TIMEZONE:Australia/Sydney
BEGIN:VEVENT
SUMMARY:Easter weekend
DTSTART;VALUE=DATE:20260403
DTEND;VALUE=DATE:20260407
DTSTAMP:20260426T060257Z
UID:028090a92f3f42608682abf0bc4c8b79@127.0.0.1:91
CREATED:20251102T235416Z
LAST-MODIFIED:20251102T235427Z
URL:https://landcare.nsw.gov.au/toolbox/lep-calendar/easter-weekend
END:VEVENT
END:VCALENDAR
