BEGIN:VCALENDAR
VERSION:2.0
PRODID:-//Plone.org//NONSGML plone.app.event//EN
X-WR-TIMEZONE:Australia/Sydney
BEGIN:VEVENT
SUMMARY:Grant Writing Workshop
DTSTART;TZID=Australia/Sydney:20260119T110000
DTEND;TZID=Australia/Sydney:20260119T123000
DTSTAMP:20260422T180303Z
UID:ea5f9512baae41aa8cdf80c90bf3ed57@127.0.0.1:91
CONTACT:https://docs.google.com/forms/d/e/1FAIpQLSdpF4LB1-kVklCOaHUS2oTTkI
 WSZ7BZSF7jwSOfXtwu46Kr6A/viewform?usp=publish-editor
CREATED:20251216T220847Z
LAST-MODIFIED:20251216T220904Z
URL:https://landcare.nsw.gov.au/toolbox/lep-calendar/grant-writing-worksho
 p
END:VEVENT
BEGIN:VTIMEZONE
TZID:Australia/Sydney
X-LIC-LOCATION:Australia/Sydney
BEGIN:DAYLIGHT
DTSTART:20251005T030000
TZNAME:AEDT
TZOFFSETFROM:+1000
TZOFFSETTO:+1100
END:DAYLIGHT
END:VTIMEZONE
END:VCALENDAR
