BEGIN:VCALENDAR
VERSION:2.0
PRODID:-//Plone.org//NONSGML plone.app.event//EN
X-WR-TIMEZONE:Australia/Sydney
BEGIN:VEVENT
SUMMARY:HR working group
DTSTART;VALUE=DATE:20250331
DTEND;VALUE=DATE:20250401
DTSTAMP:20260423T223934Z
UID:cb67431c8f5742b59250c8a10f9dd059@127.0.0.1:91
CONTACT:Peter Pigott\, lep@landcarensw.org.au
CREATED:20250320T235034Z
DESCRIPTION:Human Resources Community of Practice working group - for spec
 ific representatives
LAST-MODIFIED:20250320T235943Z
URL:https://landcare.nsw.gov.au/toolbox/lep-calendar/hr-working-group
END:VEVENT
END:VCALENDAR
