BEGIN:VCALENDAR
VERSION:2.0
PRODID:-//Plone.org//NONSGML plone.app.event//EN
X-WR-TIMEZONE:Australia/Sydney
BEGIN:VEVENT
SUMMARY:LEP reporting deadline
DTSTART;VALUE=DATE:20250715
DTEND;VALUE=DATE:20250716
DTSTAMP:20260423T223312Z
UID:92dd47f663e54ef1a4460012095d9587@127.0.0.1:91
CREATED:20250626T225316Z
LAST-MODIFIED:20250626T225329Z
URL:https://landcare.nsw.gov.au/toolbox/lep-calendar/lep-reporting-deadlin
 e
END:VEVENT
END:VCALENDAR
