BEGIN:VCALENDAR
VERSION:2.0
PRODID:-//Plone.org//NONSGML plone.app.event//EN
X-WR-TIMEZONE:Australia/Sydney
BEGIN:VEVENT
SUMMARY:Lunch and Learn- Carbon 8
DTSTART;TZID=Australia/Sydney:20250805T123000
DTEND;TZID=Australia/Sydney:20250805T133000
DTSTAMP:20260424T035117Z
UID:b3fb87033ec84a10ae08ca8179daa366@127.0.0.1:91
CONTACT:https://us06web.zoom.us/meeting/register/vQKZvR5uQbmFflC6tjnBGg
CREATED:20250519T003011Z
DESCRIPTION:We'd love to have you attend this session to hear Mike McCoske
 r speak about their organisation\, Carbon eight. Carbon eight was formed f
 ollowing the 2017 drought by a farmer\, an accountant and an artist.
LAST-MODIFIED:20250723T223808Z
URL:https://landcare.nsw.gov.au/toolbox/lep-calendar/lunch-and-learn-2
END:VEVENT
BEGIN:VTIMEZONE
TZID:Australia/Sydney
X-LIC-LOCATION:Australia/Sydney
BEGIN:STANDARD
DTSTART:20250406T020000
TZNAME:AEST
TZOFFSETFROM:+1100
TZOFFSETTO:+1000
END:STANDARD
END:VTIMEZONE
END:VCALENDAR
