BEGIN:VCALENDAR
VERSION:2.0
PRODID:-//Plone.org//NONSGML plone.app.event//EN
X-WR-TIMEZONE:Australia/Sydney
BEGIN:VEVENT
SUMMARY:Lunch & Learn
DTSTART;TZID=Australia/Sydney:20250709T123000
DTEND;TZID=Australia/Sydney:20250709T133000
DTSTAMP:20260426T084720Z
UID:d2967a74e3ff419fbe76f6a77e821732@127.0.0.1:91
CONTACT:https://us06web.zoom.us/meeting/register/-ETpbfAjRpmRb022wJzERg
CREATED:20250519T002725Z
LAST-MODIFIED:20250610T003859Z
URL:https://landcare.nsw.gov.au/toolbox/lep-calendar/lunch-learn
END:VEVENT
BEGIN:VTIMEZONE
TZID:Australia/Sydney
X-LIC-LOCATION:Australia/Sydney
BEGIN:STANDARD
DTSTART:20250406T020000
TZNAME:AEST
TZOFFSETFROM:+1100
TZOFFSETTO:+1000
END:STANDARD
END:VTIMEZONE
END:VCALENDAR
