BEGIN:VCALENDAR
VERSION:2.0
PRODID:-//Plone.org//NONSGML plone.app.event//EN
X-WR-TIMEZONE:Australia/Sydney
BEGIN:VEVENT
SUMMARY:Lunch_ Learn
DTSTART;TZID=Australia/Sydney:20260916T123000
DTEND;TZID=Australia/Sydney:20260916T133000
DTSTAMP:20260424T052810Z
UID:123ffc74f39a4404b9762ebc868863f2@127.0.0.1:91
CREATED:20251223T235001Z
LAST-MODIFIED:20251223T235013Z
URL:https://landcare.nsw.gov.au/toolbox/lep-calendar/lunch_-learn-13
END:VEVENT
BEGIN:VTIMEZONE
TZID:Australia/Sydney
X-LIC-LOCATION:Australia/Sydney
BEGIN:STANDARD
DTSTART:20260405T020000
TZNAME:AEST
TZOFFSETFROM:+1100
TZOFFSETTO:+1000
END:STANDARD
END:VTIMEZONE
END:VCALENDAR
