BEGIN:VCALENDAR
VERSION:2.0
PRODID:-//Plone.org//NONSGML plone.app.event//EN
X-WR-TIMEZONE:Australia/Sydney
BEGIN:VEVENT
SUMMARY:Lunch_ Learn
DTSTART;TZID=Australia/Sydney:20260323T123000
DTEND;TZID=Australia/Sydney:20260323T133000
DTSTAMP:20260422T233929Z
UID:bba191179f444ec38a2096e4d07eef8c@127.0.0.1:91
CREATED:20251223T233725Z
LAST-MODIFIED:20251223T233743Z
URL:https://landcare.nsw.gov.au/toolbox/lep-calendar/lunch_-learn-2
END:VEVENT
BEGIN:VTIMEZONE
TZID:Australia/Sydney
X-LIC-LOCATION:Australia/Sydney
BEGIN:DAYLIGHT
DTSTART:20251005T030000
TZNAME:AEDT
TZOFFSETFROM:+1000
TZOFFSETTO:+1100
END:DAYLIGHT
END:VTIMEZONE
END:VCALENDAR
