BEGIN:VCALENDAR
VERSION:2.0
PRODID:-//Plone.org//NONSGML plone.app.event//EN
X-WR-TIMEZONE:Australia/Sydney
BEGIN:VEVENT
SUMMARY:Lunch_ Learn
DTSTART;TZID=Australia/Sydney:20260223T123000
DTEND;TZID=Australia/Sydney:20260223T133000
DTSTAMP:20260421T111754Z
UID:7a5e283159fe40789ef2e99ad41c814e@127.0.0.1:91
CREATED:20251223T233442Z
LAST-MODIFIED:20251223T233603Z
URL:https://landcare.nsw.gov.au/toolbox/lep-calendar/lunch_-learn
END:VEVENT
BEGIN:VTIMEZONE
TZID:Australia/Sydney
X-LIC-LOCATION:Australia/Sydney
BEGIN:DAYLIGHT
DTSTART:20251005T030000
TZNAME:AEDT
TZOFFSETFROM:+1000
TZOFFSETTO:+1100
END:DAYLIGHT
END:VTIMEZONE
END:VCALENDAR
