BEGIN:VCALENDAR
VERSION:2.0
PRODID:-//Plone.org//NONSGML plone.app.event//EN
X-WR-TIMEZONE:Australia/Sydney
BEGIN:VEVENT
SUMMARY:Mapping COP
DTSTART;VALUE=DATE:20250327
DTEND;VALUE=DATE:20250328
DTSTAMP:20260422T055410Z
UID:5859aade567c4261a3266e91d6f9864d@127.0.0.1:91
CONTACT:Peter Pigott\, lep@landcarensw.org.au
CREATED:20250320T235257Z
LAST-MODIFIED:20250320T235854Z
URL:https://landcare.nsw.gov.au/toolbox/lep-calendar/mapping-cop
END:VEVENT
END:VCALENDAR
