BEGIN:VCALENDAR
VERSION:2.0
PRODID:-//Plone.org//NONSGML plone.app.event//EN
X-WR-TIMEZONE:Australia/Sydney
BEGIN:VEVENT
SUMMARY:Mastering the new digital dynamics
DTSTART;VALUE=DATE:20250618
DTEND;VALUE=DATE:20250619
DTSTAMP:20260424T233636Z
UID:eb482c7b83f848e3966a87312c0f68ec@127.0.0.1:91
CONTACT:https://event.on24.com/wcc/r/4940735/2717FB025F8D1B44F6B9F1DC4F0FC
 921
CREATED:20250529T051548Z
LAST-MODIFIED:20250529T051601Z
URL:https://landcare.nsw.gov.au/toolbox/lep-calendar/mastering-the-new-dig
 ital-dynamics
END:VEVENT
END:VCALENDAR
